View In:
ArcGIS JavaScript
ArcGIS Online Map Viewer
ArcGIS Earth
ArcGIS Pro
Service Description:
Map Name: PUBLISH PublicAccessAux vCHM
Legend
All Layers and Tables
Dynamic Legend
Dynamic All Layers
Layers:
Description:
Service Item Id: 63e705f1426d402ea7e2c7a17bf31ab4
Copyright Text:
Spatial Reference:
102719
(2264)
Single Fused Map Cache: true
Tile Info:
- Height: 512
- Width: 512
- DPI: 96
-
Levels of Detail: 24
-
Level ID: 0
[ Start Tile, End Tile ]
- Resolution: 483756.08278727543
- Scale: 5.572870073709413E8
-
Level ID: 1
[ Start Tile, End Tile ]
- Resolution: 241878.04139363772
- Scale: 2.7864350368547064E8
-
Level ID: 2
[ Start Tile, End Tile ]
- Resolution: 120939.02069681886
- Scale: 1.3932175184273532E8
-
Level ID: 3
[ Start Tile, End Tile ]
- Resolution: 60469.51034840943
- Scale: 6.966087592136766E7
-
Level ID: 4
[ Start Tile, End Tile ]
- Resolution: 30234.755174204714
- Scale: 3.483043796068383E7
-
Level ID: 5
[ Start Tile, End Tile ]
- Resolution: 15117.377587102357
- Scale: 1.7415218980341915E7
-
Level ID: 6
[ Start Tile, End Tile ]
- Resolution: 7558.688793551179
- Scale: 8707609.490170958
-
Level ID: 7
[ Start Tile, End Tile ]
- Resolution: 3779.3443967755893
- Scale: 4353804.745085479
-
Level ID: 8
[ Start Tile, End Tile ]
- Resolution: 1889.6721983877947
- Scale: 2176902.3725427394
-
Level ID: 9
[ Start Tile, End Tile ]
- Resolution: 944.8360991938973
- Scale: 1088451.1862713697
-
Level ID: 10
[ Start Tile, End Tile ]
- Resolution: 472.41804959694866
- Scale: 544225.5931356848
-
Level ID: 11
[ Start Tile, End Tile ]
- Resolution: 236.20902479847433
- Scale: 272112.7965678424
-
Level ID: 12
[ Start Tile, End Tile ]
- Resolution: 118.10451239923717
- Scale: 136056.3982839212
-
Level ID: 13
[ Start Tile, End Tile ]
- Resolution: 59.05225619961858
- Scale: 68028.1991419606
-
Level ID: 14
[ Start Tile, End Tile ]
- Resolution: 29.52612809980929
- Scale: 34014.0995709803
-
Level ID: 15
[ Start Tile, End Tile ]
- Resolution: 14.763064049904646
- Scale: 17007.04978549015
-
Level ID: 16
[ Start Tile, End Tile ]
- Resolution: 7.381532024952323
- Scale: 8503.524892745076
-
Level ID: 17
[ Start Tile, End Tile ]
- Resolution: 3.6907660124761614
- Scale: 4251.762446372538
-
Level ID: 18
[ Start Tile, End Tile ]
- Resolution: 1.8453830062380807
- Scale: 2125.881223186269
-
Level ID: 19
[ Start Tile, End Tile ]
- Resolution: 0.9226915031190404
- Scale: 1062.9406115931345
-
Level ID: 20
[ Start Tile, End Tile ]
- Resolution: 0.4613457515595202
- Scale: 531.4703057965672
-
Level ID: 21
[ Start Tile, End Tile ]
- Resolution: 0.2306728757797601
- Scale: 265.7351528982836
-
Level ID: 22
[ Start Tile, End Tile ]
- Resolution: 0.11533643788988004
- Scale: 132.8675764491418
-
Level ID: 23
[ Start Tile, End Tile ]
- Resolution: 0.05766821894494002
- Scale: 66.4337882245709
- Format: PNG
- Compression Quality: 0.0
- Origin: X: -1.2184155719092584E8
Y: 1.0696902451173094E8
- Spatial Reference: 102719
(2264)
Storage Info:
- Storage Format: esriMapCacheStorageModeCompactV2
- Packet Size: 128
Initial Extent:
XMin: 1139181.7429836835
YMin: 690002.8807249689
XMax: 1269050.2752416148
YMax: 807691.6523304617
Spatial Reference: 102719
(2264)
Full Extent:
XMin: 1106701.2220563889
YMin: 648977.5076834708
XMax: 1355515.9029037207
YMax: 856379.8432060629
Spatial Reference: 102719
(2264)
Units: esriFeet
Supported Image Format Types: PNG32,PNG24,PNG,JPG,DIB,TIFF,EMF,PS,PDF,GIF,SVG,SVGZ,BMP
Document Info:
Title: Map26
Author:
Comments:
Subject:
Category:
Keywords:
AntialiasingMode: Fast
TextAntialiasingMode: Force
Supports Dynamic Layers: true
MaxRecordCount: 2000
MaxImageHeight: 4096
MaxImageWidth: 4096
Supported Query Formats: JSON, geoJSON, PBF
Supports Query Data Elements: true
Min Scale: 544225.5931356848
Max Scale: 8503.524892745076
Min LOD: 10
Max LOD: 16
Supports Datum Transformation: true
Child Resources:
Info
Dynamic Layer
Supported Operations:
Export Map
Identify
QueryLegends
QueryDomains
Find
Return Updates