<?xml version="1.0" encoding="UTF-8"?>
<Capabilities xmlns="http://www.opengis.net/wmts/1.0"
xmlns:ows="http://www.opengis.net/ows/1.1"
xmlns:xlink="http://www.w3.org/1999/xlink"
xmlns:xsi="http://www.w3.org/2001/XMLSchema-instance"
xmlns:gml="http://www.opengis.net/gml"
xsi:schemaLocation="http://www.opengis.net/wmts/1.0 http://schemas.opengis.net/wmts/1.0/wmtsGetCapabilities_response.xsd"
version="1.0.0">
<!-- Service Identification --> <ows:ServiceIdentification>
<ows:Title>PublicAccessAux_VIEWER_vCHM_MIL1</ows:Title>
<ows:ServiceType>OGC WMTS</ows:ServiceType>
<ows:ServiceTypeVersion>1.0.0</ows:ServiceTypeVersion>
</ows:ServiceIdentification> <!-- Operations Metadata --> <ows:OperationsMetadata>
<ows:Operation name="GetCapabilities">
<ows:DCP>
<ows:HTTP>
<ows:Get xlink:href="https://gis.burkenc.org/arcgis/rest/services/PublicAccessAux_VIEWER_vCHM_MIL1/MapServer/WMTS/1.0.0/WMTSCapabilities.xml">
<ows:Constraint name="GetEncoding">
<ows:AllowedValues>
<ows:Value>RESTful</ows:Value>
</ows:AllowedValues>
</ows:Constraint>
</ows:Get>
<!-- add KVP binding in 10.1 -->
<ows:Get xlink:href="https://gis.burkenc.org/arcgis/rest/services/PublicAccessAux_VIEWER_vCHM_MIL1/MapServer/WMTS?">
<ows:Constraint name="GetEncoding">
<ows:AllowedValues>
<ows:Value>KVP</ows:Value>
</ows:AllowedValues>
</ows:Constraint>
</ows:Get>
</ows:HTTP>
</ows:DCP>
</ows:Operation>
<ows:Operation name="GetTile">
<ows:DCP>
<ows:HTTP>
<ows:Get xlink:href="https://gis.burkenc.org/arcgis/rest/services/PublicAccessAux_VIEWER_vCHM_MIL1/MapServer/WMTS/tile/1.0.0/">
<ows:Constraint name="GetEncoding">
<ows:AllowedValues>
<ows:Value>RESTful</ows:Value>
</ows:AllowedValues>
</ows:Constraint>
</ows:Get>
<ows:Get xlink:href="https://gis.burkenc.org/arcgis/rest/services/PublicAccessAux_VIEWER_vCHM_MIL1/MapServer/WMTS?">
<ows:Constraint name="GetEncoding">
<ows:AllowedValues>
<ows:Value>KVP</ows:Value>
</ows:AllowedValues>
</ows:Constraint>
</ows:Get>
</ows:HTTP>
</ows:DCP>
</ows:Operation>
</ows:OperationsMetadata> <Contents>
<!--Layer--> <Layer>
<ows:Title>PublicAccessAux_VIEWER_vCHM_MIL1</ows:Title> <ows:Identifier>PublicAccessAux_VIEWER_vCHM_MIL1</ows:Identifier>
<ows:BoundingBox crs="urn:ogc:def:crs:EPSG::2264">
<ows:LowerCorner>1106701.2220563889 648977.5076834708</ows:LowerCorner>
<ows:UpperCorner>1355515.9029037207 856379.8432060629</ows:UpperCorner>
</ows:BoundingBox> <ows:WGS84BoundingBox crs="urn:ogc:def:crs:OGC:2:84">
<ows:LowerCorner>-82.0228752278723 35.49607340298133</ows:LowerCorner>
<ows:UpperCorner>-81.16591090892351 36.08351894889462</ows:UpperCorner>
</ows:WGS84BoundingBox>
<Style isDefault="true">
<ows:Title>Default Style</ows:Title>
<ows:Identifier>default</ows:Identifier>
</Style>
<Format>image/png</Format>
<TileMatrixSetLink>
<TileMatrixSet>default028mm</TileMatrixSet>
</TileMatrixSetLink>
<ResourceURL format="image/png" resourceType="tile" template="https://gis.burkenc.org/arcgis/rest/services/PublicAccessAux_VIEWER_vCHM_MIL1/MapServer/WMTS/tile/1.0.0/PublicAccessAux_VIEWER_vCHM_MIL1/{Style}/{TileMatrixSet}/{TileMatrix}/{TileRow}/{TileCol}.png" />
</Layer> <!--TileMatrixSet-->
<TileMatrixSet>
<ows:Title>TileMatrix using 0.28mm</ows:Title>
<ows:Abstract>The tile matrix set that has scale values calculated based on the dpi defined by OGC specification (dpi assumes 0.28mm as the physical distance of a pixel).</ows:Abstract> <ows:Identifier>default028mm</ows:Identifier>
<ows:SupportedCRS>urn:ogc:def:crs:EPSG::2264</ows:SupportedCRS>
<TileMatrix>
<ows:Identifier>0</ows:Identifier>
<ScaleDenominator>5.2660410332800317E8</ScaleDenominator>
<TopLeftCorner>-1.2184155719092584E8 1.0696902451173094E8</TopLeftCorner> <TileWidth>512</TileWidth> <TileHeight>512</TileHeight>
<MatrixWidth>1</MatrixWidth> <MatrixHeight>1</MatrixHeight>
</TileMatrix>
<TileMatrix>
<ows:Identifier>1</ows:Identifier>
<ScaleDenominator>2.6330205166400158E8</ScaleDenominator>
<TopLeftCorner>-1.2184155719092584E8 1.0696902451173094E8</TopLeftCorner> <TileWidth>512</TileWidth> <TileHeight>512</TileHeight>
<MatrixWidth>1</MatrixWidth> <MatrixHeight>1</MatrixHeight>
</TileMatrix>
<TileMatrix>
<ows:Identifier>2</ows:Identifier>
<ScaleDenominator>1.3165102583200079E8</ScaleDenominator>
<TopLeftCorner>-1.2184155719092584E8 1.0696902451173094E8</TopLeftCorner> <TileWidth>512</TileWidth> <TileHeight>512</TileHeight>
<MatrixWidth>2</MatrixWidth> <MatrixHeight>2</MatrixHeight>
</TileMatrix>
<TileMatrix>
<ows:Identifier>3</ows:Identifier>
<ScaleDenominator>6.5825512916000396E7</ScaleDenominator>
<TopLeftCorner>-1.2184155719092584E8 1.0696902451173094E8</TopLeftCorner> <TileWidth>512</TileWidth> <TileHeight>512</TileHeight>
<MatrixWidth>4</MatrixWidth> <MatrixHeight>4</MatrixHeight>
</TileMatrix>
<TileMatrix>
<ows:Identifier>4</ows:Identifier>
<ScaleDenominator>3.2912756458000198E7</ScaleDenominator>
<TopLeftCorner>-1.2184155719092584E8 1.0696902451173094E8</TopLeftCorner> <TileWidth>512</TileWidth> <TileHeight>512</TileHeight>
<MatrixWidth>8</MatrixWidth> <MatrixHeight>7</MatrixHeight>
</TileMatrix>
<TileMatrix>
<ows:Identifier>5</ows:Identifier>
<ScaleDenominator>1.6456378229000099E7</ScaleDenominator>
<TopLeftCorner>-1.2184155719092584E8 1.0696902451173094E8</TopLeftCorner> <TileWidth>512</TileWidth> <TileHeight>512</TileHeight>
<MatrixWidth>16</MatrixWidth> <MatrixHeight>14</MatrixHeight>
</TileMatrix>
<TileMatrix>
<ows:Identifier>6</ows:Identifier>
<ScaleDenominator>8228189.1145000495</ScaleDenominator>
<TopLeftCorner>-1.2184155719092584E8 1.0696902451173094E8</TopLeftCorner> <TileWidth>512</TileWidth> <TileHeight>512</TileHeight>
<MatrixWidth>32</MatrixWidth> <MatrixHeight>28</MatrixHeight>
</TileMatrix>
<TileMatrix>
<ows:Identifier>7</ows:Identifier>
<ScaleDenominator>4114094.5572500248</ScaleDenominator>
<TopLeftCorner>-1.2184155719092584E8 1.0696902451173094E8</TopLeftCorner> <TileWidth>512</TileWidth> <TileHeight>512</TileHeight>
<MatrixWidth>64</MatrixWidth> <MatrixHeight>55</MatrixHeight>
</TileMatrix>
<TileMatrix>
<ows:Identifier>8</ows:Identifier>
<ScaleDenominator>2057047.2786250124</ScaleDenominator>
<TopLeftCorner>-1.2184155719092584E8 1.0696902451173094E8</TopLeftCorner> <TileWidth>512</TileWidth> <TileHeight>512</TileHeight>
<MatrixWidth>128</MatrixWidth> <MatrixHeight>110</MatrixHeight>
</TileMatrix>
<TileMatrix>
<ows:Identifier>9</ows:Identifier>
<ScaleDenominator>1028523.6393125062</ScaleDenominator>
<TopLeftCorner>-1.2184155719092584E8 1.0696902451173094E8</TopLeftCorner> <TileWidth>512</TileWidth> <TileHeight>512</TileHeight>
<MatrixWidth>255</MatrixWidth> <MatrixHeight>220</MatrixHeight>
</TileMatrix>
<TileMatrix>
<ows:Identifier>10</ows:Identifier>
<ScaleDenominator>514261.8196562531</ScaleDenominator>
<TopLeftCorner>-1.2184155719092584E8 1.0696902451173094E8</TopLeftCorner> <TileWidth>512</TileWidth> <TileHeight>512</TileHeight>
<MatrixWidth>510</MatrixWidth> <MatrixHeight>440</MatrixHeight>
</TileMatrix>
<TileMatrix>
<ows:Identifier>11</ows:Identifier>
<ScaleDenominator>257130.90982812655</ScaleDenominator>
<TopLeftCorner>-1.2184155719092584E8 1.0696902451173094E8</TopLeftCorner> <TileWidth>512</TileWidth> <TileHeight>512</TileHeight>
<MatrixWidth>1019</MatrixWidth> <MatrixHeight>880</MatrixHeight>
</TileMatrix>
<TileMatrix>
<ows:Identifier>12</ows:Identifier>
<ScaleDenominator>128565.45491406327</ScaleDenominator>
<TopLeftCorner>-1.2184155719092584E8 1.0696902451173094E8</TopLeftCorner> <TileWidth>512</TileWidth> <TileHeight>512</TileHeight>
<MatrixWidth>2038</MatrixWidth> <MatrixHeight>1759</MatrixHeight>
</TileMatrix>
<TileMatrix>
<ows:Identifier>13</ows:Identifier>
<ScaleDenominator>64282.72745703164</ScaleDenominator>
<TopLeftCorner>-1.2184155719092584E8 1.0696902451173094E8</TopLeftCorner> <TileWidth>512</TileWidth> <TileHeight>512</TileHeight>
<MatrixWidth>4075</MatrixWidth> <MatrixHeight>3517</MatrixHeight>
</TileMatrix>
<TileMatrix>
<ows:Identifier>14</ows:Identifier>
<ScaleDenominator>32141.36372851582</ScaleDenominator>
<TopLeftCorner>-1.2184155719092584E8 1.0696902451173094E8</TopLeftCorner> <TileWidth>512</TileWidth> <TileHeight>512</TileHeight>
<MatrixWidth>8150</MatrixWidth> <MatrixHeight>7033</MatrixHeight>
</TileMatrix>
<TileMatrix>
<ows:Identifier>15</ows:Identifier>
<ScaleDenominator>16070.68186425791</ScaleDenominator>
<TopLeftCorner>-1.2184155719092584E8 1.0696902451173094E8</TopLeftCorner> <TileWidth>512</TileWidth> <TileHeight>512</TileHeight>
<MatrixWidth>16299</MatrixWidth> <MatrixHeight>14066</MatrixHeight>
</TileMatrix>
<TileMatrix>
<ows:Identifier>16</ows:Identifier>
<ScaleDenominator>8035.340932128955</ScaleDenominator>
<TopLeftCorner>-1.2184155719092584E8 1.0696902451173094E8</TopLeftCorner> <TileWidth>512</TileWidth> <TileHeight>512</TileHeight>
<MatrixWidth>32598</MatrixWidth> <MatrixHeight>28132</MatrixHeight>
</TileMatrix>
<TileMatrix>
<ows:Identifier>17</ows:Identifier>
<ScaleDenominator>4017.6704660644773</ScaleDenominator>
<TopLeftCorner>-1.2184155719092584E8 1.0696902451173094E8</TopLeftCorner> <TileWidth>512</TileWidth> <TileHeight>512</TileHeight>
<MatrixWidth>65195</MatrixWidth> <MatrixHeight>56264</MatrixHeight>
</TileMatrix>
<TileMatrix>
<ows:Identifier>18</ows:Identifier>
<ScaleDenominator>2008.8352330322386</ScaleDenominator>
<TopLeftCorner>-1.2184155719092584E8 1.0696902451173094E8</TopLeftCorner> <TileWidth>512</TileWidth> <TileHeight>512</TileHeight>
<MatrixWidth>130390</MatrixWidth> <MatrixHeight>112528</MatrixHeight>
</TileMatrix>
<TileMatrix>
<ows:Identifier>19</ows:Identifier>
<ScaleDenominator>1004.4176165161193</ScaleDenominator>
<TopLeftCorner>-1.2184155719092584E8 1.0696902451173094E8</TopLeftCorner> <TileWidth>512</TileWidth> <TileHeight>512</TileHeight>
<MatrixWidth>260780</MatrixWidth> <MatrixHeight>225056</MatrixHeight>
</TileMatrix>
<TileMatrix>
<ows:Identifier>20</ows:Identifier>
<ScaleDenominator>502.20880825805966</ScaleDenominator>
<TopLeftCorner>-1.2184155719092584E8 1.0696902451173094E8</TopLeftCorner> <TileWidth>512</TileWidth> <TileHeight>512</TileHeight>
<MatrixWidth>521560</MatrixWidth> <MatrixHeight>450111</MatrixHeight>
</TileMatrix>
<TileMatrix>
<ows:Identifier>21</ows:Identifier>
<ScaleDenominator>251.10440412902983</ScaleDenominator>
<TopLeftCorner>-1.2184155719092584E8 1.0696902451173094E8</TopLeftCorner> <TileWidth>512</TileWidth> <TileHeight>512</TileHeight>
<MatrixWidth>1043120</MatrixWidth> <MatrixHeight>900221</MatrixHeight>
</TileMatrix>
<TileMatrix>
<ows:Identifier>22</ows:Identifier>
<ScaleDenominator>125.55220206451492</ScaleDenominator>
<TopLeftCorner>-1.2184155719092584E8 1.0696902451173094E8</TopLeftCorner> <TileWidth>512</TileWidth> <TileHeight>512</TileHeight>
<MatrixWidth>2086239</MatrixWidth> <MatrixHeight>1800441</MatrixHeight>
</TileMatrix>
<TileMatrix>
<ows:Identifier>23</ows:Identifier>
<ScaleDenominator>62.77610103225746</ScaleDenominator>
<TopLeftCorner>-1.2184155719092584E8 1.0696902451173094E8</TopLeftCorner> <TileWidth>512</TileWidth> <TileHeight>512</TileHeight>
<MatrixWidth>4172477</MatrixWidth> <MatrixHeight>3600881</MatrixHeight>
</TileMatrix>
</TileMatrixSet>
</Contents>
<ServiceMetadataURL xlink:href="https://gis.burkenc.org/arcgis/rest/services/PublicAccessAux_VIEWER_vCHM_MIL1/MapServer/WMTS/1.0.0/WMTSCapabilities.xml" /> </Capabilities>
